BEGIN:VCALENDAR
PRODID:-//eluceo/ical//2.0/EN
VERSION:2.0
CALSCALE:GREGORIAN
BEGIN:VEVENT
UID:5cd112c8f97f706af3f5f10460c6435d
DTSTAMP:20260423T121240Z
SUMMARY:Webinar: Powering the Future–Clean Energy\, Procurement & Innovat
 ion
DTSTART:20260423T000000Z
DTEND:20260423T010000Z
END:VEVENT
END:VCALENDAR
