BEGIN:VCALENDAR
PRODID:-//eluceo/ical//2.0/EN
VERSION:2.0
CALSCALE:GREGORIAN
BEGIN:VEVENT
UID:0c931f1018e5b4619d2258f497746935
DTSTAMP:20260423T121851Z
SUMMARY:BHA Presents: Behind the Pipeline of Biotech
DTSTART:20260423T010000Z
DTEND:20260423T023000Z
END:VEVENT
END:VCALENDAR
